BEGIN:VCALENDAR
VERSION:2.0
PRODID:-//Dialogue Across Difference - ECPv6.15.12//NONSGML v1.0//EN
CALSCALE:GREGORIAN
METHOD:PUBLISH
X-ORIGINAL-URL:https://dialogue.ucla.edu
X-WR-CALDESC:Events for Dialogue Across Difference
REFRESH-INTERVAL;VALUE=DURATION:PT1H
X-Robots-Tag:noindex
X-PUBLISHED-TTL:PT1H
BEGIN:VTIMEZONE
TZID:America/Los_Angeles
BEGIN:DAYLIGHT
TZOFFSETFROM:-0800
TZOFFSETTO:-0700
TZNAME:PDT
DTSTART:20240310T100000
END:DAYLIGHT
BEGIN:STANDARD
TZOFFSETFROM:-0700
TZOFFSETTO:-0800
TZNAME:PST
DTSTART:20241103T090000
END:STANDARD
BEGIN:DAYLIGHT
TZOFFSETFROM:-0800
TZOFFSETTO:-0700
TZNAME:PDT
DTSTART:20250309T100000
END:DAYLIGHT
BEGIN:STANDARD
TZOFFSETFROM:-0700
TZOFFSETTO:-0800
TZNAME:PST
DTSTART:20251102T090000
END:STANDARD
BEGIN:DAYLIGHT
TZOFFSETFROM:-0800
TZOFFSETTO:-0700
TZNAME:PDT
DTSTART:20260308T100000
END:DAYLIGHT
BEGIN:STANDARD
TZOFFSETFROM:-0700
TZOFFSETTO:-0800
TZNAME:PST
DTSTART:20261101T090000
END:STANDARD
END:VTIMEZONE
BEGIN:VEVENT
DTSTART;TZID=America/Los_Angeles:20251210T120000
DTEND;TZID=America/Los_Angeles:20251210T133000
DTSTAMP:20260421T114405
CREATED:20251204T225445Z
LAST-MODIFIED:20251216T233442Z
UID:10000049-1765368000-1765373400@dialogue.ucla.edu
SUMMARY:Lunch and Learn: Practicing the "Bullseye Reflection"
DESCRIPTION:Are you a UCLA staff or faculty member who has already participated in a Speaking Across Conflict workshop? \nThis zoom session will give you a chance to keep practicing the skills you learned in this workshop in conversation with other UCLA community members about the issues that matter most to you. \nBring your lunch and come prepared to “see people as they wish to be seen” and to be heard and listened to on your own terms. \nRegister here.
URL:https://dialogue.ucla.edu/event/lunch-and-learn-practicing-the-bullseye-reflection/
CATEGORIES:Events,Trainings
END:VEVENT
END:VCALENDAR