BEGIN:VCALENDAR
VERSION:2.0
PRODID:-//Dialogue Across Difference - ECPv6.15.12//NONSGML v1.0//EN
CALSCALE:GREGORIAN
METHOD:PUBLISH
X-ORIGINAL-URL:https://dialogue.ucla.edu
X-WR-CALDESC:Events for Dialogue Across Difference
REFRESH-INTERVAL;VALUE=DURATION:PT1H
X-Robots-Tag:noindex
X-PUBLISHED-TTL:PT1H
BEGIN:VTIMEZONE
TZID:America/Los_Angeles
BEGIN:DAYLIGHT
TZOFFSETFROM:-0800
TZOFFSETTO:-0700
TZNAME:PDT
DTSTART:20230312T100000
END:DAYLIGHT
BEGIN:STANDARD
TZOFFSETFROM:-0700
TZOFFSETTO:-0800
TZNAME:PST
DTSTART:20231105T090000
END:STANDARD
BEGIN:DAYLIGHT
TZOFFSETFROM:-0800
TZOFFSETTO:-0700
TZNAME:PDT
DTSTART:20240310T100000
END:DAYLIGHT
BEGIN:STANDARD
TZOFFSETFROM:-0700
TZOFFSETTO:-0800
TZNAME:PST
DTSTART:20241103T090000
END:STANDARD
BEGIN:DAYLIGHT
TZOFFSETFROM:-0800
TZOFFSETTO:-0700
TZNAME:PDT
DTSTART:20250309T100000
END:DAYLIGHT
BEGIN:STANDARD
TZOFFSETFROM:-0700
TZOFFSETTO:-0800
TZNAME:PST
DTSTART:20251102T090000
END:STANDARD
BEGIN:DAYLIGHT
TZOFFSETFROM:-0800
TZOFFSETTO:-0700
TZNAME:PDT
DTSTART:20260308T100000
END:DAYLIGHT
BEGIN:STANDARD
TZOFFSETFROM:-0700
TZOFFSETTO:-0800
TZNAME:PST
DTSTART:20261101T090000
END:STANDARD
END:VTIMEZONE
BEGIN:VEVENT
DTSTART;TZID=America/Los_Angeles:20250213T173000
DTEND;TZID=America/Los_Angeles:20250213T183000
DTSTAMP:20260421T125012
CREATED:20250418T234645Z
LAST-MODIFIED:20251216T233442Z
UID:10000032-1739467800-1739471400@dialogue.ucla.edu
SUMMARY:The State of Hate - Part Three: Hate and the Internet/Social Media
DESCRIPTION:The State of Hate is a three-part series\, jointly sponsored by UCLA’s Friends of the Semel Institute for Neuroscience and Human Behavior\, UCLA’s State of Hate Initiative\, and the Resnick Neuropsychiatric Hospital Board of Advisors. \nHate and the Internet/Social Media – Part 3 in the series\, will examine how the landscape of hate online has changed (or not) since the 2024 elections. The speakers will also discuss how young people are experiencing hate online\, and what kinds of interventions should educators\, content creators\, and policymakers institute to fight online hate? \nSpeakers:\nDavid Myers\, PhD\, \nDistinguished Professor\, founding director of the UCLA Luskin Center for History and Policy\, and the founding director of the UCLA Initiative to Study Hate \nChristine Ong\, PhD\, Research Scientist at CRESST \nSaadia Gabriel PhD\, Assistant Professor in UCLA Computer Science and affiliated with the Bunche Center for African American Studies \nRegister HERE.
URL:https://dialogue.ucla.edu/event/the-state-of-hate-part-three-hate-and-the-internet-social-media/
LOCATION:Zoom
CATEGORIES:Events,State of Hate
ATTACH;FMTTYPE=image/png:https://dialogue.ucla.edu/wp-content/uploads/2025/04/Hate_1-e1717184288191.png
END:VEVENT
BEGIN:VEVENT
DTSTART;TZID=America/Los_Angeles:20250123T173000
DTEND;TZID=America/Los_Angeles:20250123T183000
DTSTAMP:20260421T125013
CREATED:20250418T234646Z
LAST-MODIFIED:20251216T233443Z
UID:10000031-1737653400-1737657000@dialogue.ucla.edu
SUMMARY:The State of Hate - Part Two: Hate and Politics
DESCRIPTION:The State of Hate is a multi-part online series co-sponsored by the Friends of Semel Institute and the UCLA Initiative to Study Hate. The series brings together UCLA experts to share new ways of understanding and mitigating hate. The first installment in the series\, Hate and Politics\, will look at how hate is playing out in our national and international politics. Panelists will discuss what the dangers and dynamics of hateful rhetoric are to our political culture and well-being. They will also discuss what the role of the media is in both spreading and righting hate in our political environment. \nSpeakers:\nCesi Cruz\, PhD \n– Assistant Professor in the Department of Political Science \nDavid Myers\, PhD – Distinguished Professor\, founding director of the UCLA Luskin Center for History and Policy\, and the founding director of the UCLA Initiative to Study \nHate Lynn Vavreck\, PhD – Marvin Hoffenberg Professor of American Politics and Public Policy at UCLA \nRegister HERE.
URL:https://dialogue.ucla.edu/event/the-state-of-hate-part-two-hate-and-politics/
LOCATION:Zoom
CATEGORIES:Events,State of Hate
ATTACH;FMTTYPE=image/png:https://dialogue.ucla.edu/wp-content/uploads/2025/04/Hate_1-e1717184288191.png
END:VEVENT
BEGIN:VEVENT
DTSTART;TZID=America/Los_Angeles:20240610T170000
DTEND;TZID=America/Los_Angeles:20240610T180000
DTSTAMP:20260421T125013
CREATED:20250418T234646Z
LAST-MODIFIED:20251216T233443Z
UID:10000030-1718038800-1718042400@dialogue.ucla.edu
SUMMARY:The State of Hate - Part One: Hate and the Brain (Three-Part Virtual Series)
DESCRIPTION:The State of Hate is a multi-part online series co-sponsored by the Friends of Semel Institute and the UCLA Initiative to Study Hate. The series brings together UCLA experts to share new ways of understanding and mitigating hate. \nThe first installment in the series\, “The Brain and Hate” will examine what we know about how hate takes rise in the human brain. Professors Adriana Galván and Mario Mendez will join in the conversation to explore the opportunities and challenges of studying the neuroscience of hate. They will also discuss some of the cognitive processes that advance hateful behavior and how we can counter them. \nClick HERE to register for the event.
URL:https://dialogue.ucla.edu/event/the-state-of-hate-part-one-hate-and-the-brain-three-part-virtual-series/
LOCATION:Zoom
CATEGORIES:Events,State of Hate
ATTACH;FMTTYPE=image/png:https://dialogue.ucla.edu/wp-content/uploads/2025/04/Hate_1-e1717184288191.png
END:VEVENT
END:VCALENDAR